BEGIN:VCALENDAR
VERSION:2.0
PRODID:SchoolNow
CALSCALE:GREGORIAN
BEGIN:VEVENT
UID:ea3f2a5e-8e41-11ea-9bf8-12a75cba4a1d
DTSTAMP:20200504T200034Z
SUMMARY:Graduation Ceremony for the Class of 2020
LOCATION:Devere Fair Stadium
URL;VALUE=URI:https://www.decaturproud.org/about/calendar/2244186/graduatio
 n-ceremony-for-the-class-of-2020
DTSTART:20200611T195800Z
DTEND:20200611T205800Z
END:VEVENT
END:VCALENDAR
