BEGIN:VCALENDAR
VERSION:2.0
PRODID:SchoolNow
CALSCALE:GREGORIAN
BEGIN:VEVENT
UID:ea68de90-6ab4-11ea-92ab-0a3c103ce521
DTSTAMP:20200320T141304Z
SUMMARY:eLearning See Calendar
URL;VALUE=URI:https://www.decaturproud.org/about/calendar/2222751/elearning
 -see-calendar
DTSTART:20200401T140900Z
DTEND:20200430T150900Z
END:VEVENT
END:VCALENDAR
