BEGIN:VCALENDAR
VERSION:2.0
PRODID:SchoolNow
CALSCALE:GREGORIAN
BEGIN:VEVENT
UID:6b5d239c-54dc-11ea-8e1e-0a7801882019
DTSTAMP:20200221T190025Z
SUMMARY:Out of District Open Enrollment
URL;VALUE=URI:https://www.decaturproud.org/about/calendar/2205185/out-of-di
 strict-open-enrollment
DTSTART:20200330T175900Z
DTEND:20200417T185900Z
END:VEVENT
END:VCALENDAR
