BEGIN:VCALENDAR
VERSION:2.0
PRODID:SchoolNow
CALSCALE:GREGORIAN
BEGIN:VEVENT
UID:148c3470-4845-11ea-8de8-1218a58e2e35
DTSTAMP:20200622T123926Z
SUMMARY:Registration - Afternoon
URL;VALUE=URI:https://www.decaturproud.org/about/calendar/2196287/registrat
 ion
DTSTART:20200721T200000Z
DTEND:20200722T000000Z
END:VEVENT
END:VCALENDAR
