BEGIN:VCALENDAR
VERSION:2.0
PRODID:SchoolNow
CALSCALE:GREGORIAN
BEGIN:VEVENT
UID:f89ea4b4-4844-11ea-99bd-1218a58e2e35
DTSTAMP:20200622T123918Z
SUMMARY:Registration - Morning
URL;VALUE=URI:https://www.decaturproud.org/about/calendar/2196286/registrat
 ion
DTSTART:20200721T130000Z
DTEND:20200721T160000Z
END:VEVENT
END:VCALENDAR
