BEGIN:VCALENDAR
VERSION:2.0
PRODID:SchoolNow
CALSCALE:GREGORIAN
BEGIN:VEVENT
UID:c8a46370-4844-11ea-bdac-0a7c57850e1b
DTSTAMP:20200205T182444Z
SUMMARY:Backpack give-a-way at Blue and Gold Academy
URL;VALUE=URI:https://www.decaturproud.org/about/calendar/2196285/backpack-
 give-a-way-at-blue-and-gold-academy
DTSTART:20200718T140000Z
DTEND:20200718T160000Z
END:VEVENT
END:VCALENDAR
