BEGIN:VCALENDAR
VERSION:2.0
PRODID:SchoolNow
CALSCALE:GREGORIAN
BEGIN:VEVENT
UID:83b38408-4844-11ea-bc41-0ac6ad5f9f8b
DTSTAMP:20200205T182249Z
SUMMARY:Prom Dress Sale at DCHS door 12
URL;VALUE=URI:https://www.decaturproud.org/about/calendar/2196284/prom-dres
 s-sale-at-dchs-door-12
DTSTART:20200317T200000Z
DTEND:20200317T220000Z
END:VEVENT
END:VCALENDAR
