BEGIN:VCALENDAR
VERSION:2.0
PRODID:SchoolNow
CALSCALE:GREGORIAN
BEGIN:VEVENT
UID:42d0994e-4844-11ea-9e92-0ac6ad5f9f8b
DTSTAMP:20200205T182144Z
SUMMARY:Prom Dress Sale at DCHS door 12
URL;VALUE=URI:https://www.decaturproud.org/about/calendar/2196283/prom-dres
 s-sale
DTSTART:20200215T150000Z
DTEND:20200215T190000Z
END:VEVENT
END:VCALENDAR
