BEGIN:VCALENDAR
VERSION:2.0
PRODID:SchoolNow
CALSCALE:GREGORIAN
BEGIN:VEVENT
UID:02a2565c-41f8-11ea-baaa-12e8d04043ad
DTSTAMP:20210720T111112Z
SUMMARY:Last Student Day 2020
URL;VALUE=URI:https://www.decaturproud.org/about/calendar/2191300/last-stud
 ent-day
DTSTART;VALUE=DATE:20200515
DTEND;VALUE=DATE:20200516
END:VEVENT
END:VCALENDAR
