BEGIN:VCALENDAR
VERSION:2.0
PRODID:SchoolNow
CALSCALE:GREGORIAN
BEGIN:VEVENT
UID:dd4ddc78-41f7-11ea-a66d-12e8d04043ad
DTSTAMP:20200128T175901Z
SUMMARY:Spring Recess-No School
URL;VALUE=URI:https://www.decaturproud.org/about/calendar/2191299/spring-re
 cess-no-school
DTSTART:20200320T165800Z
DTEND:20200327T175800Z
END:VEVENT
END:VCALENDAR
