BEGIN:VCALENDAR
VERSION:2.0
PRODID:SchoolNow
CALSCALE:GREGORIAN
BEGIN:VEVENT
UID:c1266f1a-41f7-11ea-b668-12e8d04043ad
DTSTAMP:20200128T175814Z
SUMMARY:Presidents' Day-No School
URL;VALUE=URI:https://www.decaturproud.org/about/calendar/2191298/president
 s-day-no-school
DTSTART;VALUE=DATE:20200217
DTEND;VALUE=DATE:20200218
END:VEVENT
END:VCALENDAR
