BEGIN:VCALENDAR
VERSION:2.0
PRODID:SchoolNow
CALSCALE:GREGORIAN
BEGIN:VEVENT
UID:bd1dea20-41f6-11ea-94dd-12df629b9fa3
DTSTAMP:20200128T175057Z
SUMMARY:Teacher Recruitment Fair
URL;VALUE=URI:https://www.decaturproud.org/about/calendar/2191296/teacher-r
 ecruitment-fair
DTSTART:20200318T200000Z
DTEND:20200318T230000Z
ATTACH;FILENAME=Decatur_Event_Recruitment-Fair_March-2020 (3).pdf;FMTTYPE=a
 pplication/pdf:https://campussuite-storage.s3.amazonaws.com/prod/484008/2f
 abe5fc-59b7-11e6-943a-22000bd8490f/2044383/b99b3b5a-41f6-11ea-9dbc-12df629
 b9fa3/file/Decatur_Event_Recruitment-Fair_March-2020 (3).pdf
END:VEVENT
END:VCALENDAR
