BEGIN:VCALENDAR
VERSION:2.0
PRODID:SchoolNow
CALSCALE:GREGORIAN
BEGIN:VEVENT
UID:061bebda-d633-11e9-994e-0ab00df21fb0
DTSTAMP:20190913T143024Z
SUMMARY:End of Semester 1
URL;VALUE=URI:https://www.decaturproud.org/about/calendar/2093386/end-of-se
 mester-1
DTSTART;VALUE=DATE:20191219
DTEND;VALUE=DATE:20191220
END:VEVENT
END:VCALENDAR
