BEGIN:VCALENDAR
VERSION:2.0
PRODID:SchoolNow
CALSCALE:GREGORIAN
BEGIN:VEVENT
UID:6ec94282-d632-11e9-b4e4-12d44fec48a0
DTSTAMP:20190913T142610Z
SUMMARY:Thanksgiving Recess-No School
URL;VALUE=URI:https://www.decaturproud.org/about/calendar/2093366/thanksgiv
 ing-recess-no-school
DTSTART:20191125T152500Z
DTEND:20191129T162500Z
END:VEVENT
END:VCALENDAR
