BEGIN:VCALENDAR
VERSION:2.0
PRODID:SchoolNow
CALSCALE:GREGORIAN
BEGIN:VEVENT
UID:52a11762-d630-11e9-b9de-0a1ffb0ac972
DTSTAMP:20190913T141659Z
SUMMARY:Parent Conferences-No School
URL;VALUE=URI:https://www.decaturproud.org/about/calendar/2093337/parent-co
 nferences-no-school
DTSTART;VALUE=DATE:20191002
DTEND;VALUE=DATE:20191003
END:VEVENT
END:VCALENDAR
