BEGIN:VCALENDAR
VERSION:2.0
PRODID:SchoolNow
CALSCALE:GREGORIAN
BEGIN:VEVENT
UID:23e047fa-6041-11e9-b473-0adb5f7f4884
DTSTAMP:20190416T121410Z
SUMMARY:MSD of Decatur Township's 5th Annual Technology Showcase
URL;VALUE=URI:https://www.decaturproud.org/about/calendar/1968869/msd-of-de
 catur-townships-5th-annual-technology-showcase
DTSTART:20190416T210000Z
DTEND:20190416T230000Z
END:VEVENT
END:VCALENDAR
