BEGIN:VCALENDAR
VERSION:2.0
PRODID:SchoolNow
CALSCALE:GREGORIAN
BEGIN:VEVENT
UID:7b11d7c0-518a-11e9-8011-12c76fd8dc1c
DTSTAMP:20190328T185122Z
SUMMARY:Kindergarten Registration
URL;VALUE=URI:https://www.decaturproud.org/about/calendar/1961793/kindergar
 ten-registration
DTSTART:20190411T200000Z
DTEND:20190411T230000Z
END:VEVENT
END:VCALENDAR
