BEGIN:VCALENDAR
VERSION:2.0
PRODID:SchoolNow
CALSCALE:GREGORIAN
BEGIN:VEVENT
UID:9018c24e-442b-11e9-be70-12c14c1b2d18
DTSTAMP:20190311T182910Z
SUMMARY:Open Enrollment
URL;VALUE=URI:https://www.decaturproud.org/about/calendar/1953926/open-enro
 llment
DTSTART:20190401T182800Z
DTEND:20190419T192800Z
END:VEVENT
END:VCALENDAR
