BEGIN:VCALENDAR
VERSION:2.0
PRODID:SchoolNow
CALSCALE:GREGORIAN
BEGIN:VEVENT
UID:7f61d972-2a63-11e9-bfb8-0ad3887af23c
DTSTAMP:20190206T230403Z
SUMMARY:Superintendent Announces eLearning Day
URL;VALUE=URI:https://www.decaturproud.org/about/calendar/1941420/superinte
 ndent-announces-elearning-day
DTSTART;VALUE=DATE:20190218
DTEND;VALUE=DATE:20190219
END:VEVENT
END:VCALENDAR
