BEGIN:VCALENDAR
VERSION:2.0
PRODID:SchoolNow
CALSCALE:GREGORIAN
BEGIN:VEVENT
UID:8a7c6e2a-1515-11e9-b236-121c69f65986
DTSTAMP:20190110T202307Z
SUMMARY:Spring Recess (No School)
URL;VALUE=URI:https://www.decaturproud.org/about/calendar/1929597/spring-re
 cess-no-school
DTSTART:20190322T191900Z
DTEND:20190329T201900Z
END:VEVENT
END:VCALENDAR
